BEGIN:VCALENDAR
VERSION:2.0
PRODID:-//https://www.daiquiridecksouthsiesta.com///NONSGML kigkonsult.se iCalcreator 2.10.15//
METHOD:PUBLISH
BEGIN:VEVENT
UID:20260423T040513UTC-6576TnZkPA@https://www.daiquiridecksouthsiesta.com/
DTSTAMP:20260423T040513Z
DESCRIPTION: https://www.daiquiridecksouthsiesta.com/component/rseventspro/
 event/4179-3p-tim-mccaig?Itemid=220
DTSTART;VALUE=DATE:20260530
LOCATION:Daiquiri Deck Bradenton Beach (107 Bridge St\, Bradenton Beach\, F
 L 34217)
SUMMARY:3p Tim McCaig
URL:https://www.daiquiridecksouthsiesta.com/component/rseventspro/event/417
 9-3p-tim-mccaig?Itemid=220
END:VEVENT
END:VCALENDAR
