BEGIN:VCALENDAR
VERSION:2.0
PRODID:-//https://www.daiquiridecksouthsiesta.com///NONSGML kigkonsult.se iCalcreator 2.10.15//
METHOD:PUBLISH
BEGIN:VEVENT
UID:20260423T023308UTC-1491I5fDvb@https://www.daiquiridecksouthsiesta.com/
DTSTAMP:20260423T023308Z
DESCRIPTION: https://www.daiquiridecksouthsiesta.com/component/rseventspro/
 event/4130-5pm-chad-tallman?Itemid=220
DTSTART;VALUE=DATE:20260529
LOCATION:Daiquiri Deck Bradenton Beach (107 Bridge St\, Bradenton Beach\, F
 L 34217)
SUMMARY:5pm Chad Tallman
URL:https://www.daiquiridecksouthsiesta.com/component/rseventspro/event/413
 0-5pm-chad-tallman?Itemid=220
END:VEVENT
END:VCALENDAR
