BEGIN:VCALENDAR
VERSION:2.0
PRODID:-//https://www.daiquiridecksouthsiesta.com///NONSGML kigkonsult.se iCalcreator 2.10.15//
METHOD:PUBLISH
BEGIN:VEVENT
UID:20260422T233950UTC-3302mnGK4H@https://www.daiquiridecksouthsiesta.com/
DTSTAMP:20260422T233950Z
DESCRIPTION: https://www.daiquiridecksouthsiesta.com/component/rseventspro/
 event/4128-6p-ken-apperson?Itemid=220
DTSTART;VALUE=DATE:20260527
LOCATION:Daiquiri Deck Bradenton Beach (107 Bridge St\, Bradenton Beach\, F
 L 34217)
SUMMARY:6p Ken Apperson
URL:https://www.daiquiridecksouthsiesta.com/component/rseventspro/event/412
 8-6p-ken-apperson?Itemid=220
END:VEVENT
END:VCALENDAR
