BEGIN:VCALENDAR
VERSION:2.0
PRODID:-//https://www.daiquiridecksouthsiesta.com///NONSGML kigkonsult.se iCalcreator 2.10.15//
METHOD:PUBLISH
BEGIN:VEVENT
UID:20260422T190914UTC-53535bW6vl@https://www.daiquiridecksouthsiesta.com/
DTSTAMP:20260422T190914Z
DESCRIPTION: https://www.daiquiridecksouthsiesta.com/component/rseventspro/
 event/4125-4p-gulf-coastin-life?Itemid=220
DTSTART;VALUE=DATE:20260524
LOCATION:Daiquiri Deck Bradenton Beach (107 Bridge St\, Bradenton Beach\, F
 L 34217)
SUMMARY:4p Gulf Coastin.Life
URL:https://www.daiquiridecksouthsiesta.com/component/rseventspro/event/412
 5-4p-gulf-coastin-life?Itemid=220
END:VEVENT
END:VCALENDAR
