BEGIN:VCALENDAR
VERSION:2.0
PRODID:-//https://www.daiquiridecksouthsiesta.com///NONSGML kigkonsult.se iCalcreator 2.10.15//
METHOD:PUBLISH
BEGIN:VEVENT
UID:20260422T141207UTC-0078xIfXUg@https://www.daiquiridecksouthsiesta.com/
DTSTAMP:20260422T141207Z
DESCRIPTION: https://www.daiquiridecksouthsiesta.com/component/rseventspro/
 event/4122-6p-logan-obrien?Itemid=220
DTSTART;VALUE=DATE:20260521
LOCATION:Daiquiri Deck Bradenton Beach (107 Bridge St\, Bradenton Beach\, F
 L 34217)
SUMMARY:6p Logan O'Brien
URL:https://www.daiquiridecksouthsiesta.com/component/rseventspro/event/412
 2-6p-logan-obrien?Itemid=220
END:VEVENT
END:VCALENDAR
