BEGIN:VCALENDAR
VERSION:2.0
PRODID:-//https://www.daiquiridecksouthsiesta.com///NONSGML kigkonsult.se iCalcreator 2.10.15//
METHOD:PUBLISH
BEGIN:VEVENT
UID:20260424T142222UTC-17238Zf7K0@https://www.daiquiridecksouthsiesta.com/
DTSTAMP:20260424T142222Z
DESCRIPTION: https://www.daiquiridecksouthsiesta.com/component/rseventspro/
 event/4032-5p-jake-ariel?Itemid=220
DTSTART;VALUE=DATE:20260504
LOCATION:Daiquiri Deck South Siesta Key (1250 Stickney Point Rd\, Siesta Ke
 y\, FL 34242)
SUMMARY:5p Jake & Ariel
URL:https://www.daiquiridecksouthsiesta.com/component/rseventspro/event/403
 2-5p-jake-ariel?Itemid=220
END:VEVENT
END:VCALENDAR
