BEGIN:VCALENDAR
VERSION:2.0
PRODID:-//https://www.daiquiridecksouthsiesta.com///NONSGML kigkonsult.se iCalcreator 2.10.15//
METHOD:PUBLISH
BEGIN:VEVENT
UID:20260423T145257UTC-3662IkCEHL@https://www.daiquiridecksouthsiesta.com/
DTSTAMP:20260423T145257Z
DESCRIPTION: https://www.daiquiridecksouthsiesta.com/component/rseventspro/
 event/4030-12p-brian-mansano?Itemid=220
DTSTART;VALUE=DATE:20260502
LOCATION:Daiquiri Deck South Siesta Key (1250 Stickney Point Rd\, Siesta Ke
 y\, FL 34242)
SUMMARY:12p Brian Mansano 
URL:https://www.daiquiridecksouthsiesta.com/component/rseventspro/event/403
 0-12p-brian-mansano?Itemid=220
END:VEVENT
END:VCALENDAR
