BEGIN:VCALENDAR
VERSION:2.0
PRODID:-//https://www.daiquiridecksouthsiesta.com///NONSGML kigkonsult.se iCalcreator 2.10.15//
METHOD:PUBLISH
BEGIN:VEVENT
UID:20260421T131804UTC-7556U8uaxP@https://www.daiquiridecksouthsiesta.com/
DTSTAMP:20260421T131804Z
DESCRIPTION: https://www.daiquiridecksouthsiesta.com/component/rseventspro/
 event/4029-5p-sean-adam-walsh?Itemid=220
DTSTART;VALUE=DATE:20260501
LOCATION:Daiquiri Deck South Siesta Key (1250 Stickney Point Rd\, Siesta Ke
 y\, FL 34242)
SUMMARY:5p Sean Adam Walsh
URL:https://www.daiquiridecksouthsiesta.com/component/rseventspro/event/402
 9-5p-sean-adam-walsh?Itemid=220
END:VEVENT
END:VCALENDAR
